BEGIN:VCALENDAR
VERSION:2.0
PRODID:-//ChamberMaster//Event Calendar 2.0//EN
METHOD:PUBLISH
X-PUBLISHED-TTL:P1H
REFRESH-INTERVAL:P1H
CALSCALE:GREGORIAN
BEGIN:VTIMEZONE
TZID:America/Chicago
BEGIN:DAYLIGHT
RRULE:FREQ=YEARLY;BYMONTH=3;BYDAY=2SU
DTSTART:20070101T000000
TZOFFSETFROM:-0600
TZOFFSETTO:-0500
TZNAME:Central Daylight Time
END:DAYLIGHT
BEGIN:STANDARD
RRULE:FREQ=YEARLY;BYMONTH=11;BYDAY=1SU
DTSTART:20070101T000000
TZOFFSETFROM:-0500
TZOFFSETTO:-0600
TZNAME:Central Standard Time
END:STANDARD
END:VTIMEZONE
BEGIN:VEVENT
DTSTART;VALUE=DATE:20261022
DTEND;VALUE=DATE:20261023
TRANSP:TRANSPARENT
X-MICROSOFT-CDO-ALLDAYEVENT:TRUE
SUMMARY:The Blueprint 2026 | A Construction Industry Conference
DESCRIPTION:Presented by Riess LeMieux\n\nNEW ORLEANS MARRIOTT WAREHOUSE DISTRICT\n\n859 CONVENTION CENTER BLVD\, NEW ORLEANS\, LA\n\n​The Blueprint Conference\, brought to you by Riess LeMieux\, provides insight into critical issues in the construction industry. Our conference is designed to educate and inform all members of recent updates in insurance\, law\, design\, and more.\n\n The event provides a unique opportunity to network and learn alongside industry professionals and executives.
X-ALT-DESC;FMTTYPE=text/html:Presented by Riess LeMieux\n\nNEW ORLEANS MARRIOTT WAREHOUSE DISTRICT\n\n859 CONVENTION CENTER BLVD\, NEW ORLEANS\, LA\n\n​The Blueprint Conference\, brought to you by Riess LeMieux\, provides insight into critical issues in the construction industry. Our conference is designed to educate and inform all members of recent updates in insurance\, law\, design\, and more.\n\n The event provides a unique opportunity to network and learn alongside industry professionals and executives.
LOCATION:859 Convention Center Blvd New Orleans 70130
UID:e.4147.1448255
SEQUENCE:3
DTSTAMP:20260425T161818Z
URL:https://members.abcbayou.com/eventcalendar/Details/the-blueprint-2026-a-construction-industry-conference-1715256?sourceTypeId=Hub
END:VEVENT
END:VCALENDAR
