BEGIN:VCALENDAR
VERSION:2.0
PRODID:-//ChamberMaster//Event Calendar 2.0//EN
METHOD:PUBLISH
X-PUBLISHED-TTL:P1H
REFRESH-INTERVAL:P1H
CALSCALE:GREGORIAN
BEGIN:VTIMEZONE
TZID:America/Chicago
BEGIN:DAYLIGHT
RRULE:FREQ=YEARLY;BYMONTH=3;BYDAY=2SU
DTSTART:20070101T000000
TZOFFSETFROM:-0600
TZOFFSETTO:-0500
TZNAME:Central Daylight Time
END:DAYLIGHT
BEGIN:STANDARD
RRULE:FREQ=YEARLY;BYMONTH=11;BYDAY=1SU
DTSTART:20070101T000000
TZOFFSETFROM:-0500
TZOFFSETTO:-0600
TZNAME:Central Standard Time
END:STANDARD
END:VTIMEZONE
BEGIN:VEVENT
DTSTART;TZID=America/Chicago:20260423T100000
DTEND;TZID=America/Chicago:20260423T160000
X-MICROSOFT-CDO-ALLDAYEVENT:FALSE
SUMMARY:2026 Zurich Classic Tailgate Zone Tickets
DESCRIPTION:For a Tailgate experience like no other\, enjoy an outing on the greens at the Zurich Classic! You'll feel like you are a part of the PGA TOUR action from your seat in The Tailgate Zone with views of golf on the back nine including the 14th hole and overlooking the Par 3 17th hole! The Tailgate Zone includes: a covered 20' x 20' tent featuring a bar and grill with pub tables and stools inside the tent\; umbrella seating in the enclosed patio\; TVs inside tent\; and unlimited food and beverages from 10:00am to end of play. Tailgate Single Day tickets opportunity good Thursday. Order your tickets today!\nContact Gina Boudreaux for information and to register today!gboudreaux@forekidsfoundation.com(504) 342-3015
X-ALT-DESC;FMTTYPE=text/html:<!DOCTYPE html><html><head><title></title></head><body aria-disabled="false" data-gr-ext-installed="" data-new-gr-c-s-check-loaded="14.1277.0" data-new-gr-c-s-loaded="14.1277.0" spellcheck="false"><p>For a Tailgate experience like no other\, enjoy an outing on the greens at the Zurich Classic! You&rsquo\;ll feel like you are a part of the PGA TOUR action from your seat in The Tailgate Zone with views of golf on the back nine including the 14th hole and overlooking the Par 3 17th hole! The Tailgate Zone includes: a covered 20&rsquo\; x 20&rsquo\; tent featuring a bar and grill with pub tables and stools inside the tent\; umbrella seating in the enclosed patio\; TVs inside tent\; and unlimited food and beverages from 10:00am to end of play. Tailgate Single Day tickets opportunity good Thursday. Order your tickets today!</p><p><br></p><p>Contact Gina Boudreaux for information and to register today!</p><p><a fr-original-style="" href="mailto:gboudreaux@forekidsfoundation.com" style="user-select: auto\;">gboudreaux@forekidsfoundation.com</a></p><p>(504) 342-3015</p></body></html>
LOCATION:11001 Lapalco Blvd Avondale
UID:e.4147.1422775
SEQUENCE:3
DTSTAMP:20260425T160829Z
URL:https://members.abcbayou.com/eventcalendar/Details/2026-zurich-classic-tailgate-zone-tickets-1682200?sourceTypeId=Hub
END:VEVENT
END:VCALENDAR
