BEGIN:VCALENDAR
VERSION:2.0
PRODID:-//ChamberMaster//Event Calendar 2.0//EN
METHOD:PUBLISH
X-PUBLISHED-TTL:P1H
REFRESH-INTERVAL:P1H
CALSCALE:GREGORIAN
BEGIN:VTIMEZONE
TZID:America/Chicago
BEGIN:DAYLIGHT
RRULE:FREQ=YEARLY;BYMONTH=3;BYDAY=2SU
DTSTART:20070101T000000
TZOFFSETFROM:-0600
TZOFFSETTO:-0500
TZNAME:Central Daylight Time
END:DAYLIGHT
BEGIN:STANDARD
RRULE:FREQ=YEARLY;BYMONTH=11;BYDAY=1SU
DTSTART:20070101T000000
TZOFFSETFROM:-0500
TZOFFSETTO:-0600
TZNAME:Central Standard Time
END:STANDARD
END:VTIMEZONE
BEGIN:VEVENT
DTSTART;TZID=America/Chicago:20260325T160000
DTEND;TZID=America/Chicago:20260325T183000
X-MICROSOFT-CDO-ALLDAYEVENT:FALSE
SUMMARY:Nicholls State Tour Hosted by ABC Young Professionals
DESCRIPTION:Join ABC Bayou Young Professionals for our 2026 Speaker Series on March 25\, 2026\, from 4:00 6:30 PM in Thibodaux\, LA. The event will begin with an exclusive tour of the new Nicholls Nursing Building led by Stephen Couret of DonahueFavret Contractors.At 4:30 PM\, attendees will head to the football stadium and hear from guest speaker Tim Rebow\, former Nicholls State Head Football Coach (2014 2024) and current Business Development professional with Grand Isle Shipyard\, as he shares insights on leadership\, teamwork\, and career development.The evening will conclude with networking and cocktails at Rox's Bar (Back Patio) from 5:00 6:30 PM\, providing a great opportunity to connect with fellow young professionals and industry leaders.Event Schedule4:00 PM   Tour of New Nicholls Nursing Building with Stephen Couret (Stadium Drive\, Thibodaux)4:30 PM   Guest Speaker Tim Rebow at NSU Football Stadium (Alumni Drive\, Thibodaux)5:00 6:30 PM   Networking & Cocktails at Rox's Bar Back Patio (200 St. Philip St.\, Thibodaux)Registration-Free for 2026 Registered Young Professionals-$25 for ABC Bayou Members\nTo register\, contact Katie Brisbi at katie@abcbayou.com
X-ALT-DESC;FMTTYPE=text/html:<!DOCTYPE html><html><head><title></title></head><body aria-disabled="false"><p data-end="439" data-start="164"><br></p><p data-end="439" data-start="164">Join <strong data-end="202" data-start="169" fr-original-style="" style="font-weight: 700\;">ABC Bayou Young Professionals</strong> for our <strong data-end="234" data-start="211" fr-original-style="" style="font-weight: 700\;">2026 Speaker Series</strong> on <strong data-end="256" data-start="238" fr-original-style="" style="font-weight: 700\;">March 25\, 2026</strong>\, from <strong data-end="279" data-start="263" fr-original-style="" style="font-weight: 700\;">4:00&ndash\;6:30 PM</strong> in Thibodaux\, LA. The event will begin with an exclusive <strong data-end="382" data-start="337" fr-original-style="" style="font-weight: 700\;">tour of the new Nicholls Nursing Building</strong> led by <strong data-end="437" data-start="390" fr-original-style="" style="font-weight: 700\;">Stephen Couret of DonahueFavret Contractors</strong>.</p><p data-end="716" data-start="441">At <strong data-end="455" data-start="444" fr-original-style="" style="font-weight: 700\;">4:30 PM</strong>\, attendees will head to the football stadium and hear from <strong data-end="510" data-start="482" fr-original-style="" style="font-weight: 700\;">guest speaker Tim Rebow</strong>\, former <strong data-end="569" data-start="519" fr-original-style="" style="font-weight: 700\;">Nicholls State Head Football Coach (2014&ndash\;2024)</strong> and current <strong data-end="644" data-start="582" fr-original-style="" style="font-weight: 700\;">Business Development professional with Grand Isle Shipyard</strong>\, as he shares insights on leadership\, teamwork\, and career development.</p><p data-end="921" data-start="718">The evening will conclude with <strong data-end="803" data-start="749" fr-original-style="" style="font-weight: 700\;">networking and cocktails at Rox&rsquo\;s Bar (Back Patio)</strong> from <strong data-end="825" data-start="809" fr-original-style="" style="font-weight: 700\;">5:00&ndash\;6:30 PM</strong>\, providing a great opportunity to connect with fellow young professionals and industry leaders.</p><hr fr-original-style="" style="clear: both\; user-select: none\; break-after: page\;"><p data-end="941" data-start="923"><strong data-end="941" data-start="923" fr-original-style="" style="font-weight: 700\;">Event Schedule</strong></p><p style="margin-left: 20px\;"><strong data-end="955" data-start="944" fr-original-style="" style="font-weight: 700\;">4:00 PM</strong> &ndash\; Tour of New Nicholls Nursing Building with Stephen Couret (Stadium Drive\, Thibodaux)</p><p data-end="1137" data-start="1047" style="margin-left: 20px\;"><strong data-end="1058" data-start="1047" fr-original-style="" style="font-weight: 700\;">4:30 PM</strong> &ndash\; Guest Speaker Tim Rebow at NSU Football Stadium (Alumni Drive\, Thibodaux)</p><p data-end="1237" data-start="1140" style="margin-left: 20px\;"><strong data-end="1156" data-start="1140" fr-original-style="" style="font-weight: 700\;">5:00&ndash\;6:30 PM</strong> &ndash\; Networking &amp\; Cocktails at Rox&rsquo\;s Bar Back Patio (200 St. Philip St.\, Thibodaux)</p><hr fr-original-style="" style="clear: both\; user-select: none\; break-after: page\;"><p data-end="1255" data-start="1239"><strong data-end="1255" data-start="1239" fr-original-style="" style="font-weight: 700\;">Registration</strong></p><p data-end="1306" data-start="1258">-Free for <strong data-end="1306" data-start="1267" fr-original-style="" style="font-weight: 700\;">2026 Registered Young Professionals</strong></p><p data-end="1338" data-start="1309"><strong data-end="1338" data-start="1309" fr-original-style="" style="font-weight: 700\;">-$25 for ABC Bayou Members</strong></p><p data-end="1404" data-start="1340"><br></p><p data-end="1404" data-start="1340">To register\, contact <strong data-end="1377" data-start="1361" fr-original-style="" style="font-weight: 700\;">Katie Brisbi</strong> at <strong data-end="1403" data-start="1381" fr-original-style="" style="font-weight: 700\;"><a data-end="1401" data-start="1383" fr-original-style="" rel="noopener" style="user-select: auto\;">katie@abcbayou.com</a></strong></p></body></html>
LOCATION:Stadium Drive Thibodaux LA 70301
UID:e.4147.1416588
SEQUENCE:3
DTSTAMP:20260421T122208Z
URL:https://members.abcbayou.com/eventcalendar/Details/nicholls-state-tour-hosted-by-abc-young-professionals-1674397?sourceTypeId=Hub
END:VEVENT
END:VCALENDAR
